BEGIN:VCALENDAR
VERSION:2.0
PRODID:-//anPad - ECPv6.10.2//NONSGML v1.0//EN
CALSCALE:GREGORIAN
METHOD:PUBLISH
X-WR-CALNAME:anPad
X-ORIGINAL-URL:https://www.anpad.fr
X-WR-CALDESC:Évènements pour anPad
REFRESH-INTERVAL;VALUE=DURATION:PT1H
X-Robots-Tag:noindex
X-PUBLISHED-TTL:PT1H
BEGIN:VTIMEZONE
TZID:UTC
BEGIN:STANDARD
TZOFFSETFROM:+0000
TZOFFSETTO:+0000
TZNAME:UTC
DTSTART:20160101T000000
END:STANDARD
END:VTIMEZONE
BEGIN:VEVENT
DTSTART;VALUE=DATE:20160707
DTEND;VALUE=DATE:20160801
DTSTAMP:20260421T100940
CREATED:20160623T192703Z
LAST-MODIFIED:20160623T195219Z
UID:3378-1467853200-1469926799@www.anpad.fr
SUMMARY:Discours de la servitude volontaire
DESCRIPTION:
URL:https://www.anpad.fr/event/la-semaine-volontaire/
LOCATION:Espace roseau teinturier\, 45 rue des Teinturiers\, Avignon\, 84000\, France
CATEGORIES:Artistes-enseignants
ATTACH;FMTTYPE=image/jpeg:https://www.anpad.fr/wp-content/uploads/2016/06/servitude-ph.jpg
END:VEVENT
END:VCALENDAR