BEGIN:VCALENDAR
VERSION:2.0
PRODID:-//anPad - ECPv6.10.2//NONSGML v1.0//EN
CALSCALE:GREGORIAN
METHOD:PUBLISH
X-WR-CALNAME:anPad
X-ORIGINAL-URL:https://www.anpad.fr
X-WR-CALDESC:Évènements pour anPad
REFRESH-INTERVAL;VALUE=DURATION:PT1H
X-Robots-Tag:noindex
X-PUBLISHED-TTL:PT1H
BEGIN:VTIMEZONE
TZID:UTC
BEGIN:STANDARD
TZOFFSETFROM:+0000
TZOFFSETTO:+0000
TZNAME:UTC
DTSTART:20150101T000000
END:STANDARD
END:VTIMEZONE
BEGIN:VEVENT
DTSTART;VALUE=DATE:20151112
DTEND;VALUE=DATE:20151218
DTSTAMP:20260421T164227
CREATED:20151125T122852Z
LAST-MODIFIED:20151125T142057Z
UID:2263-1447290000-1450313999@www.anpad.fr
SUMMARY:Biennale des arts du mime et du geste
DESCRIPTION:télécharger le programme en pdf
URL:https://www.anpad.fr/event/biennale-des-arts-du-mime-et-du-geste/
CATEGORIES:Artistes-enseignants
ATTACH;FMTTYPE=image/jpeg:https://www.anpad.fr/wp-content/uploads/2015/11/biennale-vg.jpg
END:VEVENT
BEGIN:VEVENT
DTSTART;TZID=UTC:20151121T150000
DTEND;TZID=UTC:20151121T180000
DTSTAMP:20260421T164227
CREATED:20151110T194513Z
LAST-MODIFIED:20151111T102547Z
UID:1436-1448118000-1448128800@www.anpad.fr
SUMMARY:Fragments d'un discours amoureux
DESCRIPTION:de Roland Barthes \nPar les élèves de la classe d’Art Dramatrique du CRD de Saint Germain en Laye
URL:https://www.anpad.fr/event/roland-barthes/
LOCATION:Bibliothèque – Saint Germain-en-Laye\, 9 Rue Henri IV\, Saint-Germain-en-Laye\, 78100\, France
CATEGORIES:Élèves
ATTACH;FMTTYPE=image/png:https://www.anpad.fr/wp-content/uploads/2015/11/barthes.png
END:VEVENT
BEGIN:VEVENT
DTSTART;VALUE=DATE:20151125
DTEND;VALUE=DATE:20151129
DTSTAMP:20260421T164227
CREATED:20151122T132253Z
LAST-MODIFIED:20151127T140208Z
UID:2055-1448413200-1448672399@www.anpad.fr
SUMMARY:CINQ JOURS EN MARS
DESCRIPTION:En mars 2003\, deux jeunes issus de la génération Y se rencontrent à un concert rock. Ils s’enferment pendant 5 jours dans un « love hôtel » du quartier animé de Shibuya\, isolés un instant du chaos quotidien. Au pied du bâtiment défilent des manifestants\, car pendant ce temps\, les États- Unis déclarent la guerre à l’Irak. \n \n\nAvec Charlotte Baglan\, Flora Bourne-Chastel\, Alice Benoit\, Christophe Brocheret\, Nicolas Chevrier\, Florient Jousse\, Makiko Kawai.\nDe Toshiki Okada Traduction Corinne Atlan Mise en scène Jérôme Wacquiez Scénographie Anne Guénand\, Jérôme Wacquiez Lumières Éric Gréco Son Émile Wacquiez Vidéo Yuka Toyoshima Costumes Flo Guénand \n \nSoutiens DRAC Picardie\, Conseil régional de Picardie\, Conseil départemental de l’Oise\, Ville de Compiègne\, Spedidam\, ESAD\, Maison du Théâtre d’Amiens\, Théâtre du Chevalet de Noyon\, MAIL de Soissons\, Fondation franco-japonaise Sasakawa\nProduction Compagnie des Lucioles\nCo-production Maisons des Arts et Loisirs de Laon\n\nTélécharger le dossier de presse\n\n\nMERCREDI 25\, JEUDI 26\, VENDREDI 27 NOVEMBRE // À 20H\nAU CENTRE CULTUREL POINT DU JOUR\n1-9 Rue du Général Malleterre\, 75016 Paris\n01 46 51 03 15
URL:https://www.anpad.fr/event/cinq-jours-en-mars/
LOCATION:CENTRE CULTUREL POINT DU JOUR\, 1-9 Rue du Général Malleterre\, Paris\, 75016\, France
CATEGORIES:Artistes-enseignants
ATTACH;FMTTYPE=image/jpeg:https://www.anpad.fr/wp-content/uploads/2015/11/5-jours-en-mars_ph1.jpg
END:VEVENT
BEGIN:VEVENT
DTSTART;VALUE=DATE:20151127
DTEND;VALUE=DATE:20151129
DTSTAMP:20260421T164227
CREATED:20151127T235544Z
LAST-MODIFIED:20151128T000750Z
UID:2310-1448586000-1448672399@www.anpad.fr
SUMMARY:LISOLO
DESCRIPTION:Laurent Contamin donnera lecture de LISOLO (éditions Lansman) vendredi 27 novembre à 19h30 à la librairie La Lucarne des Ecrivains\, 115 rue de l’Ourcq\, Paris 19ème. L’entrée est libre (un chapeau circulera à la fin). Fin prévue à 21h. C’est mieux de prévenir de votre venue au 01 40 05 91 51.\n \nLISOLO :\nUne pièce qui tente\, à partir d’un fait divers tragique\, de faire dialoguer les cultures et les races.\nDeux personnages : l’un est noir\, l’autre est blanc. En guise d’uppercuts et d’esquives\, ils utiliseront la parole\, le cri\, le silence\, le rire… pour partager le même ring.\n\n\n\n\n\n« Tu t’appelles Wildo\, Gaylord\, Mabonzo\, Juventus\, Jean-Bosco – tu t’appelles Bondeko. Tu as été démobilisé de l’armée. Tu as fait des choses difficiles\, comme tenir un fusil et chasser un dictateur. Tu étais le garde du corps d’un grand chef de guerre. Tu as risqué ta peau. Tu n’avais pas peur. Tu disais : ‘Je n’ai pas peur’ et ça te suffisait pour ne pas avoir peur – le pouvoir immense\, le pouvoir de ta propre parole sur ton corps – le pouvoir sans limites de ta propre parole sur ton corps. Ce grand chef de guerre était comme ton père : tu avais de la considération. Après la guerre\, il t’a dit de partir. Comme tu ne savais plus rentrer chez toi\, tu es resté à Kin ».\n \nLisolo a été finaliste en 2015 de l’Inédithéâtre\, prix lycéen de pièces inédites proposé par l’association POSTURES\, qui organise des comités de lecture dans 13 lycées (général et technologique) des régions Ile-de-France\, Poitou-Charentes\, Rhone-Alpes\, Alsace\, ainsi qu’en Suisse.
URL:https://www.anpad.fr/event/lisolo/
CATEGORIES:Artistes-enseignants
ATTACH;FMTTYPE=image/jpeg:https://www.anpad.fr/wp-content/uploads/2015/11/lisolo-ph.jpg
END:VEVENT
END:VCALENDAR